BEGIN:VCALENDAR
VERSION:2.0
PRODID:-//San Isidro - ECPv6.15.20//NONSGML v1.0//EN
CALSCALE:GREGORIAN
METHOD:PUBLISH
X-WR-CALNAME:San Isidro
X-ORIGINAL-URL:https://clubcampestresanisidro.com
X-WR-CALDESC:Eventos para San Isidro
REFRESH-INTERVAL;VALUE=DURATION:PT1H
X-Robots-Tag:noindex
X-PUBLISHED-TTL:PT1H
BEGIN:VTIMEZONE
TZID:America/Guatemala
BEGIN:STANDARD
TZOFFSETFROM:-0600
TZOFFSETTO:-0600
TZNAME:CST
DTSTART:20230101T000000
END:STANDARD
END:VTIMEZONE
BEGIN:VEVENT
DTSTART;TZID=America/Guatemala:20240814T083000
DTEND;TZID=America/Guatemala:20240814T170000
DTSTAMP:20260425T052446
CREATED:20240724T155308Z
LAST-MODIFIED:20240903T170700Z
UID:5182-1723624200-1723654800@clubcampestresanisidro.com
SUMMARY:🎾 Torneo de Tennis para Damas
DESCRIPTION:Miércoles 14 de agosto\, 8:30 A.M.\nQ150 \nCategorías: \n\nPrincipiante\nCategoría C\nCategoría B\n\nExclusivos socias San Isidro \nInscripciones: \n\n+\n502 50582166\n502 56903404
URL:https://clubcampestresanisidro.com/evento/torneo-de-tennis-para-damas/
CATEGORIES:Torneos de Tennis,Torneos de Tennis - Femenino
ATTACH;FMTTYPE=image/jpeg:https://clubcampestresanisidro.com/wp-content/uploads/2024/07/TORNEO-TENIS-PARA-DAMAS-TV.jpg
END:VEVENT
BEGIN:VEVENT
DTSTART;TZID=America/Guatemala:20240822T100000
DTEND;TZID=America/Guatemala:20240822T120000
DTSTAMP:20260425T052446
CREATED:20240808T215439Z
LAST-MODIFIED:20240903T170529Z
UID:5256-1724320800-1724328000@clubcampestresanisidro.com
SUMMARY:⛳ Clínica de Damas y Torneo
DESCRIPTION:Putt\, Chip\, Approach\, Bunker \n22 de agosto \n10 A.M. a 12 P.M. \nAl finalizar\, Alegre Torneo de Putt \nInscripciones: WhatsApp 4121 6487 \n 
URL:https://clubcampestresanisidro.com/evento/clinica-de-damas-y-torneo/
CATEGORIES:Femeninos,Torneos de Golf
ATTACH;FMTTYPE=image/jpeg:https://clubcampestresanisidro.com/wp-content/uploads/2024/08/Clinica-Damas.jpg
END:VEVENT
BEGIN:VEVENT
DTSTART;TZID=America/Guatemala:20240831T093000
DTEND;TZID=America/Guatemala:20240831T170000
DTSTAMP:20260425T052446
CREATED:20240827T213100Z
LAST-MODIFIED:20240827T213239Z
UID:5320-1725096600-1725123600@clubcampestresanisidro.com
SUMMARY:Torneo de Pickleball
DESCRIPTION:Sábado 31 de agosto\n9:30 A.M. \nTorneo en parejas \nQ150 por persona \nInscripciones +502 5649 4169
URL:https://clubcampestresanisidro.com/evento/torneo-de-pickleball/
CATEGORIES:Torneos de Tennis,Torneos de Tennis - San Isidro
ATTACH;FMTTYPE=image/jpeg:https://clubcampestresanisidro.com/wp-content/uploads/2024/08/Pickleball-2.jpg
END:VEVENT
BEGIN:VEVENT
DTSTART;TZID=America/Guatemala:20241026T080000
DTEND;TZID=America/Guatemala:20241026T170000
DTSTAMP:20260425T052446
CREATED:20240827T212720Z
LAST-MODIFIED:20241022T232948Z
UID:5314-1729929600-1729962000@clubcampestresanisidro.com
SUMMARY:Torneo Match Play en Parejas
DESCRIPTION:Del 8 de septiembre al 26 de octubre\nCosto: Q450 por pareja\nSe premiará a las primeras dos parejas \nUna sola categoría: desde +3.9 al máximo de index registrado (75% de HDCP)\nSe usará handicap del 1 de septiembre hasta terminar el torneo \nMarcas de salida:\nDamas: rojas\nCaballeros: blancas \nGran final y torneo Medal Play:\nAlmuerzo de clausura para todos los no clasificados 12 de octubre \nInscripciones: 2419-1209 | 4526-3671 \nWhatsApp: 4526-3671
URL:https://clubcampestresanisidro.com/evento/torneo-match-play-en-parejas/
CATEGORIES:San Isidro,Torneos de Golf
ATTACH;FMTTYPE=image/jpeg:https://clubcampestresanisidro.com/wp-content/uploads/2024/08/Match-Play-Final.jpg
END:VEVENT
BEGIN:VEVENT
DTSTART;TZID=America/Guatemala:20241108T080000
DTEND;TZID=America/Guatemala:20241108T170000
DTSTAMP:20260425T052446
CREATED:20241017T144839Z
LAST-MODIFIED:20241017T144839Z
UID:5845-1731052800-1731085200@clubcampestresanisidro.com
SUMMARY:Segundo Torneo de Golf Margarita Tejada
DESCRIPTION:Best Ball Parejas \nDonación Q1200 \nInscríbete al más +502 3039 2757\no por donaciones21@fundacionmargaritatejada.org
URL:https://clubcampestresanisidro.com/evento/segundo-torneo-de-golf-margarita-tejada/
CATEGORIES:Beneficencia,Torneos de Golf
ATTACH;FMTTYPE=image/jpeg:https://clubcampestresanisidro.com/wp-content/uploads/2024/10/Torneo-Margarita-Tejada.jpg
END:VEVENT
BEGIN:VEVENT
DTSTART;TZID=America/Guatemala:20241213T083000
DTEND;TZID=America/Guatemala:20241213T170000
DTSTAMP:20260425T052446
CREATED:20241129T153744Z
LAST-MODIFIED:20241129T153744Z
UID:6291-1734078600-1734109200@clubcampestresanisidro.com
SUMMARY:Torneo Navideño de Damas
DESCRIPTION:TORNEO NAVIDEÑO DAMAS\nVIERNES 13 DE DICIEMBRE\n8:30 AM SHOT GUN\nINSCRIPCION Q100.00 por persona \nMODALIDAD: INDIVIDUAL \nInscritas al torneo deben tener HDCP registrado [ASOGOLF]\ni SE PREMIARA A LOS PRIMEROS 3 LUGARES!\nCLOSEST TO THE PIN – HOYO 2 Y 16 \nINSCRIPCIONES:\n2419-1209\n4526-3671 \n 
URL:https://clubcampestresanisidro.com/evento/torneo-navideno-de-damas/
CATEGORIES:Femeninos,Torneos de Golf
ATTACH;FMTTYPE=image/jpeg:https://clubcampestresanisidro.com/wp-content/uploads/2024/11/Torneo-Navideno-Damas.jpg
END:VEVENT
BEGIN:VEVENT
DTSTART;TZID=America/Guatemala:20241214T080000
DTEND;TZID=America/Guatemala:20241214T170000
DTSTAMP:20260425T052446
CREATED:20241129T155640Z
LAST-MODIFIED:20241129T155640Z
UID:6304-1734163200-1734195600@clubcampestresanisidro.com
SUMMARY:Torneo del Pavo 2024
DESCRIPTION:Tradicional Torneo del Pavo \nMEDAL PLAY \n14 de diciembre 2024 \nCategorías: \nde O a 10 de Hdcp. \nde 11 a 20 de Hdcp. \nde 21 a 36 de Hdcp. \nSalida: 8:30 AM – Individual \nInscripción: Q100 \nInformación: 2419-1209 \n 
URL:https://clubcampestresanisidro.com/evento/torneo-del-pavo-2024/
CATEGORIES:San Isidro,Torneos de Golf
ATTACH;FMTTYPE=image/jpeg:https://clubcampestresanisidro.com/wp-content/uploads/2024/11/torneo-del-pavo.jpg
END:VEVENT
BEGIN:VEVENT
DTSTART;TZID=America/Guatemala:20250511T100000
DTEND;TZID=America/Guatemala:20250511T170000
DTSTAMP:20260425T052446
CREATED:20250505T150913Z
LAST-MODIFIED:20250505T151904Z
UID:8082-1746957600-1746982800@clubcampestresanisidro.com
SUMMARY:Torneo de Golf Juvenil Aniversario
DESCRIPTION:JUVENIL\ntorneo de aniversario \nPITCH & PUTT \n\ndomingo 11 de mayo \n10:00AM\nSHOT GUN    |    DRIVING RANGE \n\nMODALIDAD: A GO GO CON HDCP\nEquipos de 3 jugadores | Edades hasta 12 años \n\nTROFEOS A LOS PRIMEROS 3 LUGARES\nCoctel\, premiación y rifas \n\nExclusivo socios San Isidro\ne invitados de honor \n\nINFORMACIÓN\n📞 +502 2419-1209\n📱 +502 4526-3671 \nSAN ISIDRO Club Campestre \n25 aniversario
URL:https://clubcampestresanisidro.com/evento/torneo-de-golf-juvenil-aniversario/
CATEGORIES:Juveniles,San Isidro,Torneos de Golf
ATTACH;FMTTYPE=image/jpeg:https://clubcampestresanisidro.com/wp-content/uploads/2025/05/Torneo-Juvenil-Aniversario-00001.jpg
END:VEVENT
BEGIN:VEVENT
DTSTART;TZID=America/Guatemala:20250516T080000
DTEND;TZID=America/Guatemala:20250517T170000
DTSTAMP:20260425T052446
CREATED:20250503T142947Z
LAST-MODIFIED:20250503T143444Z
UID:8022-1747382400-1747501200@clubcampestresanisidro.com
SUMMARY:Torneo de Aniversario
DESCRIPTION:TORNEO\n25° aniversario \nviernes 16 y sábado 17 de mayo \n\nMODALIDAD:\nSTROKE PLAY INDIVIDUAL 36 HOYOS. \n\nCATEGORÍAS\n\nCAMPEONATO: +0.5 a 4.1 de Index – Tee Azul\nA: 4.2 a 10.4 de Index – Tee Blanco\nB: 10.5 a 17.5 de Index – Tee Blanco\nC: 17.6 a 34.7 de Index – Tee Blanco\nDAMAS: Hasta 36.0 de Index – Tee Rojo\n\n\nCONDICIONES\n\nJugadores deben de tener Hdcp registrado en Asogolf.\nHandicap del 1 de Mayo.\nPremios: Trofeo 1er Lugar Gross y Trofeo 3 primeros lugares Netos en cada categoría.\nClosest to the Pin y Rifas.\nHOLE IN ONE – Carrito LVTON [Primero en Hoyo 4 ó 16 de ambos días].\nSi no hay Hole in One se entregará el carrito al mejor Closest to the pin de viernes y sábado en mismos hoyos.\n\n\nINSCRIPCIONES:\n📱 +502 4526-3671\n📞 +502 2419-1209
URL:https://clubcampestresanisidro.com/evento/torneo-de-aniversario/
CATEGORIES:San Isidro,Torneos de Golf
ATTACH;FMTTYPE=image/jpeg:https://clubcampestresanisidro.com/wp-content/uploads/2025/05/Torneo-Aniversario-00002.jpeg
END:VEVENT
BEGIN:VEVENT
DTSTART;TZID=America/Guatemala:20250516T140000
DTEND;TZID=America/Guatemala:20250516T170000
DTSTAMP:20260425T052446
CREATED:20250505T153535Z
LAST-MODIFIED:20250505T153549Z
UID:8153-1747404000-1747414800@clubcampestresanisidro.com
SUMMARY:Torneo de Pickleball Aniversario
DESCRIPTION:PICKLEBALL\ntorneo aniversario \n\nviernes 16 de mayo \nTORNEO EN PAREJAS\núnica categoría\n2pm a 6pm \npremios a los primeros 3 lugares \ninscripciones: +502 5649-4169 \nexclusivo socios San Isidro. \n\n\nSAN ISIDRO Club Campestre \n25 aniversario
URL:https://clubcampestresanisidro.com/evento/torneo-de-pickleball-aniversario/
CATEGORIES:Torneos de Tennis,Torneos de Tennis - San Isidro
ATTACH;FMTTYPE=image/jpeg:https://clubcampestresanisidro.com/wp-content/uploads/2025/05/Torneo-de-aniversario-Pickleball.jpg
END:VEVENT
BEGIN:VEVENT
DTSTART;TZID=America/Guatemala:20250517T120000
DTEND;TZID=America/Guatemala:20250517T170000
DTSTAMP:20260425T052446
CREATED:20250505T152400Z
LAST-MODIFIED:20250508T145609Z
UID:8130-1747483200-1747501200@clubcampestresanisidro.com
SUMMARY:Torneo de Tennis Juvenil Aniversario
DESCRIPTION:TORNEO JUVENIL\naniversario \n\nviernes 17 de mayo \n\nPunto Rojo\nPunto Naranja\nPunto Verde\nBola Normal\n\n12pm en adelante \ninscripciones:\n📞 +502 5649-4169 \n\n\nSAN ISIDRO Club Campestre \n25 aniversario
URL:https://clubcampestresanisidro.com/evento/torneo-de-tennis-juvenil-aniversario/
CATEGORIES:Torneos de Tennis,Torneos de Tennis - Juvenil,Torneos de Tennis - San Isidro
ATTACH;FMTTYPE=image/jpeg:https://clubcampestresanisidro.com/wp-content/uploads/2025/05/Torneo-juvenil.jpg
END:VEVENT
BEGIN:VEVENT
DTSTART;TZID=America/Guatemala:20250523T080000
DTEND;TZID=America/Guatemala:20250523T170000
DTSTAMP:20260425T052446
CREATED:20250505T151648Z
LAST-MODIFIED:20250505T151648Z
UID:8115-1747987200-1748019600@clubcampestresanisidro.com
SUMMARY:10o. Visualiza Open
DESCRIPTION:10th VISUALIZA Open\nVIERNES 23 DE MAYO\, 2025\nSAN ISIDRO ZONA 16 \n\n  SAVE THE DATE\n\nModalidad: BEST BALL EN PAREJAS \n\nInscripciones:\n📱 3142-0065\n✉️ emelin.quintanilla@visualiza.org.gt \n\n¡GANA INCREÍBLES PREMIOS!
URL:https://clubcampestresanisidro.com/evento/10o-visualiza-open/
CATEGORIES:Beneficencia,Torneos de Golf
ATTACH;FMTTYPE=image/jpeg:https://clubcampestresanisidro.com/wp-content/uploads/2025/05/Visualiza-Open.jpg
END:VEVENT
BEGIN:VEVENT
DTSTART;TZID=America/Guatemala:20250604T080000
DTEND;TZID=America/Guatemala:20250604T170000
DTSTAMP:20260425T052446
CREATED:20250521T210643Z
LAST-MODIFIED:20250521T210831Z
UID:8344-1749024000-1749056400@clubcampestresanisidro.com
SUMMARY:Women Golf Day 2025
DESCRIPTION:WOMEN GOLF DAY\n\nMIÉRCOLES 04 DE JUNIO \n\n  8:00AM – SHOT GUN\n  Q200.00 P/PERSONA\n \nModalidad: Best Ball en parejas con 75% de HDCP \nMarcas de salida: Rojas \nAlmuerzo y premiación:\n1:00PM \nCupo limitado: 60 pax \n\n\nSAN ISIDRO Club Campestre \n25 aniversario
URL:https://clubcampestresanisidro.com/evento/women-golf-day-2025/
CATEGORIES:Femeninos,Torneos de Golf
ATTACH;FMTTYPE=image/jpeg:https://clubcampestresanisidro.com/wp-content/uploads/2025/05/Women-Golf-Day.jpg
END:VEVENT
BEGIN:VEVENT
DTSTART;TZID=America/Guatemala:20260410T180000
DTEND;TZID=America/Guatemala:20260410T180000
DTSTAMP:20260425T052446
CREATED:20260409T150027Z
LAST-MODIFIED:20260409T151412Z
UID:12512-1775844000-1775844000@clubcampestresanisidro.com
SUMMARY:Torneo Nocturno Juvenil 2026
DESCRIPTION:San Isidro Club Campestre te invita al Torneo Nocturno Juvenil. \nFecha: viernes 10 de abril \nHora: 18:00 hrs \nModalidad: a go-go \nEquipos de 5 jugadores \nRecorrido: hoyos 1 al 9 \nCosto: Q200.00 \nInscripciones Proshop: +502 5290-5141
URL:https://clubcampestresanisidro.com/evento/torneo-nocturno-juvenil-2026/
CATEGORIES:Juveniles,San Isidro,Torneos de Golf
ATTACH;FMTTYPE=image/jpeg:https://clubcampestresanisidro.com/wp-content/uploads/2026/04/Torneo-Nocturno-Juvenil-2026.jpg
END:VEVENT
BEGIN:VEVENT
DTSTART;TZID=America/Guatemala:20260411T080000
DTEND;TZID=America/Guatemala:20260523T170000
DTSTAMP:20260425T052446
CREATED:20260409T151858Z
LAST-MODIFIED:20260409T172506Z
UID:12521-1775894400-1779555600@clubcampestresanisidro.com
SUMMARY:Match Play Individual 2026
DESCRIPTION:San Isidro Club Campestre te invita a Match Play Individual. \nFecha: del 11 de abril al 23 de mayo \nCosto: Q200 por persona \nCategorías por index mixtas: \nA: +0.5 a 4.1 de index\, Tee Azul \nB: 4.2 a 10.4 de index\, Tee Blanco \nC: 10.5 a 17.5 de index\, Tee Blanco \nD: 17.6 a 34.7 de index\, Tee Blanco \nJuvenil: 13 a 18 años\, hasta 34.7 index\, Tee Blanco \nCondiciones: \nHDCP al 1 de abril para todo el torneo \nIndispensable HDCP registrado en Asogolf \nUn match semanal\, jugadores acuerdan día y hora de juego \nDías oficiales: sábados \nSorteo de matches: 2 de abril \nGran final y torneo Medal Play: 23 de mayo \nSe premiará a los primeros 2 lugares de cada categoría \nInscripciones Proshop: +502 5290-5141
URL:https://clubcampestresanisidro.com/evento/match-play-individual-2026/
CATEGORIES:San Isidro,Torneos de Golf
ATTACH;FMTTYPE=image/jpeg:https://clubcampestresanisidro.com/wp-content/uploads/2026/04/Match-Play-Individual-2026.jpg
END:VEVENT
BEGIN:VEVENT
DTSTART;TZID=America/Guatemala:20260424T070000
DTEND;TZID=America/Guatemala:20260424T170000
DTSTAMP:20260425T052446
CREATED:20260409T172858Z
LAST-MODIFIED:20260421T201917Z
UID:12528-1777014000-1777050000@clubcampestresanisidro.com
SUMMARY:UNIS Classic for Care 2026
DESCRIPTION:San Isidro Club Campestre será sede de la 2da edición de UNIS Classic for Care Golf Tournament\, en beneficio del fondo de becas de la Licenciatura en Enfermería de la UNIS. \nFecha: 24 de abril \nInscripción: Q1\,200 por persona \nModalidad de juego: Best Ball en parejas \nHorario: \n7:00 a. m.\, registro y desayuno \n8:00 a. m.\, shotgun \nPremio 1er lugar: viaje ida y vuelta\, hospedaje 2 noches y green fee en Pinehurst 1895. \nPara más información e inscripciones: +502 5515-1011 \nHandicap actualizado requerido para ser elegible a premios.
URL:https://clubcampestresanisidro.com/evento/unis-classic-for-care-2026/
CATEGORIES:Beneficencia,Torneos de Golf
ATTACH;FMTTYPE=image/jpeg:https://clubcampestresanisidro.com/wp-content/uploads/2026/04/UNIS-Classic-For-Care.jpg
END:VEVENT
BEGIN:VEVENT
DTSTART;TZID=America/Guatemala:20260529T080000
DTEND;TZID=America/Guatemala:20260529T170000
DTSTAMP:20260425T052446
CREATED:20260421T202112Z
LAST-MODIFIED:20260421T202159Z
UID:12695-1780041600-1780074000@clubcampestresanisidro.com
SUMMARY:Torneo de Golf de Emprendedores 2026
DESCRIPTION:Club Campestre San Isidro será sede del Torneo de Golf de Emprendedores 2026\, octava edición\, a beneficio de Junior Achievement Guatemala. \nFecha: 29 de mayo de 2026\nHora: 8:00 hrs\nLugar: Club Campestre San Isidro
URL:https://clubcampestresanisidro.com/evento/torneo-de-golf-de-emprendedores-2026/
CATEGORIES:Beneficencia,Torneos de Golf
ATTACH;FMTTYPE=image/jpeg:https://clubcampestresanisidro.com/wp-content/uploads/2026/04/torneo-Golf-emprendedores.jpg
END:VEVENT
END:VCALENDAR