BEGIN:VCALENDAR
VERSION:2.0
PRODID:-//San Isidro - ECPv6.15.20//NONSGML v1.0//EN
CALSCALE:GREGORIAN
METHOD:PUBLISH
X-WR-CALNAME:San Isidro
X-ORIGINAL-URL:https://clubcampestresanisidro.com
X-WR-CALDESC:Eventos para San Isidro
REFRESH-INTERVAL;VALUE=DURATION:PT1H
X-Robots-Tag:noindex
X-PUBLISHED-TTL:PT1H
BEGIN:VTIMEZONE
TZID:America/Guatemala
BEGIN:STANDARD
TZOFFSETFROM:-0600
TZOFFSETTO:-0600
TZNAME:CST
DTSTART:20240101T000000
END:STANDARD
END:VTIMEZONE
BEGIN:VEVENT
DTSTART;TZID=America/Guatemala:20250604T080000
DTEND;TZID=America/Guatemala:20250604T170000
DTSTAMP:20260424T080619
CREATED:20250521T210643Z
LAST-MODIFIED:20250521T210831Z
UID:8344-1749024000-1749056400@clubcampestresanisidro.com
SUMMARY:Women Golf Day 2025
DESCRIPTION:WOMEN GOLF DAY\n\nMIÉRCOLES 04 DE JUNIO \n\n  8:00AM – SHOT GUN\n  Q200.00 P/PERSONA\n \nModalidad: Best Ball en parejas con 75% de HDCP \nMarcas de salida: Rojas \nAlmuerzo y premiación:\n1:00PM \nCupo limitado: 60 pax \n\n\nSAN ISIDRO Club Campestre \n25 aniversario
URL:https://clubcampestresanisidro.com/evento/women-golf-day-2025/
CATEGORIES:Femeninos,Torneos de Golf
ATTACH;FMTTYPE=image/jpeg:https://clubcampestresanisidro.com/wp-content/uploads/2025/05/Women-Golf-Day.jpg
END:VEVENT
END:VCALENDAR