BEGIN:VCALENDAR
VERSION:2.0
PRODID:-//San Isidro - ECPv6.15.20//NONSGML v1.0//EN
CALSCALE:GREGORIAN
METHOD:PUBLISH
X-WR-CALNAME:San Isidro
X-ORIGINAL-URL:https://clubcampestresanisidro.com
X-WR-CALDESC:Eventos para San Isidro
REFRESH-INTERVAL;VALUE=DURATION:PT1H
X-Robots-Tag:noindex
X-PUBLISHED-TTL:PT1H
BEGIN:VTIMEZONE
TZID:America/Guatemala
BEGIN:STANDARD
TZOFFSETFROM:-0600
TZOFFSETTO:-0600
TZNAME:CST
DTSTART:20230101T000000
END:STANDARD
END:VTIMEZONE
BEGIN:VEVENT
DTSTART;TZID=America/Guatemala:20240604T080000
DTEND;TZID=America/Guatemala:20240604T170000
DTSTAMP:20260423T101845
CREATED:20240530T171938Z
LAST-MODIFIED:20240530T172118Z
UID:4780-1717488000-1717520400@clubcampestresanisidro.com
SUMMARY:Women Golf Day
DESCRIPTION:INDISPENSABLE TENER HDCP REGISTRADO ASOGOLF\nMARTES 04 DE JUNIO \nSHOT GUN: 8:00AM\nQ200.00 P/ PERSONA \nVESTIMENTA: ROJO Y BLANCO\nMODALIDAD: BEST BALL EN PAREJAS CON 75% DE HDCP\nMARCAS DE SALIDA: ROJAS\nALMUERZO Y PREMIACIÓN: 1:00PM\nCUPO LIMITADO: 60 PAX\nINSCRIPCIONES: 2419-1209 – 4526-3671\nPREMIO A LOS PRIMEROS 3 LUGARES
URL:https://clubcampestresanisidro.com/evento/women-golf-day/
CATEGORIES:San Isidro,Torneos de Golf
ATTACH;FMTTYPE=image/jpeg:https://clubcampestresanisidro.com/wp-content/uploads/2024/05/women-golf-day.jpg
END:VEVENT
END:VCALENDAR