BEGIN:VCALENDAR
VERSION:2.0
PRODID:-//San Isidro - ECPv6.15.20//NONSGML v1.0//EN
CALSCALE:GREGORIAN
METHOD:PUBLISH
X-WR-CALNAME:San Isidro
X-ORIGINAL-URL:https://clubcampestresanisidro.com
X-WR-CALDESC:Eventos para San Isidro
REFRESH-INTERVAL;VALUE=DURATION:PT1H
X-Robots-Tag:noindex
X-PUBLISHED-TTL:PT1H
BEGIN:VTIMEZONE
TZID:America/Guatemala
BEGIN:STANDARD
TZOFFSETFROM:-0600
TZOFFSETTO:-0600
TZNAME:CST
DTSTART:20230101T000000
END:STANDARD
END:VTIMEZONE
BEGIN:VEVENT
DTSTART;TZID=America/Guatemala:20240616T080000
DTEND;TZID=America/Guatemala:20240616T170000
DTSTAMP:20260423T101912
CREATED:20240530T172817Z
LAST-MODIFIED:20240530T173005Z
UID:4783-1718524800-1718557200@clubcampestresanisidro.com
SUMMARY:Torneo Padre Hijo
DESCRIPTION:DOMINGO 16 DE JUNIO \nMODALIDAD BEST BALL\nCATEGORIA: 13 AÑOS EN ADELANTE\nSHOT GUN: 8:00 AM\nQ100 P/PERSONA\nMARCAS DE SALIDA: BLANCAS \nMODALIDAD: A GO GO CAMPO DE PRÁCTICA\nCATEGORIA: HASTA 12 AÑOS\nSHOT GUN: 10:00 AM\nQ100 P/PERSONA \nINSCRIPCIONES: 2419-1209 – 4526-3671
URL:https://clubcampestresanisidro.com/evento/torneo-padre-hijo/
CATEGORIES:San Isidro,Torneos de Golf
ATTACH;FMTTYPE=image/jpeg:https://clubcampestresanisidro.com/wp-content/uploads/2024/05/Torneo-Padre-Hijo.jpg
END:VEVENT
END:VCALENDAR