BEGIN:VCALENDAR
VERSION:2.0
PRODID:-//San Isidro - ECPv6.15.20//NONSGML v1.0//EN
CALSCALE:GREGORIAN
METHOD:PUBLISH
X-WR-CALNAME:San Isidro
X-ORIGINAL-URL:https://clubcampestresanisidro.com
X-WR-CALDESC:Eventos para San Isidro
REFRESH-INTERVAL;VALUE=DURATION:PT1H
X-Robots-Tag:noindex
X-PUBLISHED-TTL:PT1H
BEGIN:VTIMEZONE
TZID:UTC
BEGIN:STANDARD
TZOFFSETFROM:+0000
TZOFFSETTO:+0000
TZNAME:UTC
DTSTART:20200101T000000
END:STANDARD
END:VTIMEZONE
BEGIN:VEVENT
DTSTART;TZID=UTC:20210807T080000
DTEND;TZID=UTC:20210918T170000
DTSTAMP:20260423T155612
CREATED:20210802T235146Z
LAST-MODIFIED:20210812T023214Z
UID:627-1628323200-1631984400@clubcampestresanisidro.com
SUMMARY:Torneo Match Play Parejas San Isidro 2021
DESCRIPTION:[vc_row][vc_column][vc_single_image image=»803″ img_size=»full» alignment=»center» onclick=»link_image» css_animation=»fadeIn»][vc_row_inner][vc_column_inner width=»1/2″][vc_single_image image=»804″ img_size=»full» alignment=»center» onclick=»link_image» css_animation=»fadeIn»][vc_empty_space height=»40px»][/vc_column_inner][vc_column_inner width=»1/2″][vc_single_image image=»806″ img_size=»full» alignment=»center» onclick=»link_image» css_animation=»fadeIn»][vc_empty_space height=»40px»][/vc_column_inner][/vc_row_inner][vc_row_inner][vc_column_inner width=»1/2″][vc_single_image image=»805″ img_size=»full» alignment=»center» onclick=»link_image» css_animation=»fadeIn»][vc_empty_space height=»40px»][/vc_column_inner][vc_column_inner width=»1/2″][vc_single_image image=»807″ img_size=»full» alignment=»center» onclick=»link_image» css_animation=»fadeIn»][vc_empty_space height=»40px»][/vc_column_inner][/vc_row_inner][/vc_column][/vc_row]
URL:https://clubcampestresanisidro.com/evento/torneo-match-play-parejas-san-isidro-2021/
CATEGORIES:Torneos de Golf
ATTACH;FMTTYPE=image/jpeg:https://clubcampestresanisidro.com/wp-content/uploads/2021/08/Torneo-Match-Play-Parejas-San-Isidro.jpg
END:VEVENT
END:VCALENDAR