BEGIN:VCALENDAR
VERSION:2.0
PRODID:-//San Isidro - ECPv6.15.20//NONSGML v1.0//EN
CALSCALE:GREGORIAN
METHOD:PUBLISH
X-WR-CALNAME:San Isidro
X-ORIGINAL-URL:https://clubcampestresanisidro.com
X-WR-CALDESC:Eventos para San Isidro
REFRESH-INTERVAL;VALUE=DURATION:PT1H
X-Robots-Tag:noindex
X-PUBLISHED-TTL:PT1H
BEGIN:VTIMEZONE
TZID:America/Guatemala
BEGIN:STANDARD
TZOFFSETFROM:-0600
TZOFFSETTO:-0600
TZNAME:CST
DTSTART:20230101T000000
END:STANDARD
END:VTIMEZONE
BEGIN:VEVENT
DTSTART;TZID=America/Guatemala:20241026T080000
DTEND;TZID=America/Guatemala:20241026T170000
DTSTAMP:20260423T083939
CREATED:20240827T212720Z
LAST-MODIFIED:20241022T232948Z
UID:5314-1729929600-1729962000@clubcampestresanisidro.com
SUMMARY:Torneo Match Play en Parejas
DESCRIPTION:Del 8 de septiembre al 26 de octubre\nCosto: Q450 por pareja\nSe premiará a las primeras dos parejas \nUna sola categoría: desde +3.9 al máximo de index registrado (75% de HDCP)\nSe usará handicap del 1 de septiembre hasta terminar el torneo \nMarcas de salida:\nDamas: rojas\nCaballeros: blancas \nGran final y torneo Medal Play:\nAlmuerzo de clausura para todos los no clasificados 12 de octubre \nInscripciones: 2419-1209 | 4526-3671 \nWhatsApp: 4526-3671
URL:https://clubcampestresanisidro.com/evento/torneo-match-play-en-parejas/
CATEGORIES:San Isidro,Torneos de Golf
ATTACH;FMTTYPE=image/jpeg:https://clubcampestresanisidro.com/wp-content/uploads/2024/08/Match-Play-Final.jpg
END:VEVENT
END:VCALENDAR