BEGIN:VCALENDAR
VERSION:2.0
PRODID:-//San Isidro - ECPv6.15.20//NONSGML v1.0//EN
CALSCALE:GREGORIAN
METHOD:PUBLISH
X-WR-CALNAME:San Isidro
X-ORIGINAL-URL:https://clubcampestresanisidro.com
X-WR-CALDESC:Eventos para San Isidro
REFRESH-INTERVAL;VALUE=DURATION:PT1H
X-Robots-Tag:noindex
X-PUBLISHED-TTL:PT1H
BEGIN:VTIMEZONE
TZID:America/Guatemala
BEGIN:STANDARD
TZOFFSETFROM:-0600
TZOFFSETTO:-0600
TZNAME:CST
DTSTART:20210101T000000
END:STANDARD
END:VTIMEZONE
BEGIN:VEVENT
DTSTART;TZID=America/Guatemala:20220305T080000
DTEND;TZID=America/Guatemala:20220402T170000
DTSTAMP:20260423T155536
CREATED:20220226T154249Z
LAST-MODIFIED:20220226T154249Z
UID:1714-1646467200-1648918800@clubcampestresanisidro.com
SUMMARY:Torneo Match Play 2022
DESCRIPTION:
URL:https://clubcampestresanisidro.com/evento/torneo-match-play-2022/
CATEGORIES:Torneos de Golf
ATTACH;FMTTYPE=image/jpeg:https://clubcampestresanisidro.com/wp-content/uploads/2022/02/Match-Play-20222.jpg
END:VEVENT
END:VCALENDAR