BEGIN:VCALENDAR
VERSION:2.0
PRODID:-//San Isidro - ECPv6.15.20//NONSGML v1.0//EN
CALSCALE:GREGORIAN
METHOD:PUBLISH
X-WR-CALNAME:San Isidro
X-ORIGINAL-URL:https://clubcampestresanisidro.com
X-WR-CALDESC:Eventos para San Isidro
REFRESH-INTERVAL;VALUE=DURATION:PT1H
X-Robots-Tag:noindex
X-PUBLISHED-TTL:PT1H
BEGIN:VTIMEZONE
TZID:America/Guatemala
BEGIN:STANDARD
TZOFFSETFROM:-0600
TZOFFSETTO:-0600
TZNAME:CST
DTSTART:20230101T000000
END:STANDARD
END:VTIMEZONE
BEGIN:VEVENT
DTSTART;TZID=America/Guatemala:20240507T083000
DTEND;TZID=America/Guatemala:20240507T170000
DTSTAMP:20260423T101912
CREATED:20240419T183506Z
LAST-MODIFIED:20240419T183506Z
UID:4378-1715070600-1715101200@clubcampestresanisidro.com
SUMMARY:Torneo Día de la Madre
DESCRIPTION:FECHA:\n07 de Mayo \nHora:\n8:30AM \nInscripción:\nQ100.00
URL:https://clubcampestresanisidro.com/evento/torneo-dia-de-la-madre/
CATEGORIES:Femeninos
ATTACH;FMTTYPE=image/jpeg:https://clubcampestresanisidro.com/wp-content/uploads/2024/04/TORNEO-DIA-DE-LA-MADRE-TV.jpg
END:VEVENT
END:VCALENDAR