BEGIN:VCALENDAR
VERSION:2.0
PRODID:-//San Isidro - ECPv6.15.20//NONSGML v1.0//EN
CALSCALE:GREGORIAN
METHOD:PUBLISH
X-WR-CALNAME:San Isidro
X-ORIGINAL-URL:https://clubcampestresanisidro.com
X-WR-CALDESC:Eventos para San Isidro
REFRESH-INTERVAL;VALUE=DURATION:PT1H
X-Robots-Tag:noindex
X-PUBLISHED-TTL:PT1H
BEGIN:VTIMEZONE
TZID:America/Guatemala
BEGIN:STANDARD
TZOFFSETFROM:-0600
TZOFFSETTO:-0600
TZNAME:CST
DTSTART:20230101T000000
END:STANDARD
END:VTIMEZONE
BEGIN:VEVENT
DTSTART;TZID=America/Guatemala:20240814T083000
DTEND;TZID=America/Guatemala:20240814T170000
DTSTAMP:20260423T102031
CREATED:20240724T155308Z
LAST-MODIFIED:20240903T170700Z
UID:5182-1723624200-1723654800@clubcampestresanisidro.com
SUMMARY:🎾 Torneo de Tennis para Damas
DESCRIPTION:Miércoles 14 de agosto\, 8:30 A.M.\nQ150 \nCategorías: \n\nPrincipiante\nCategoría C\nCategoría B\n\nExclusivos socias San Isidro \nInscripciones: \n\n+\n502 50582166\n502 56903404
URL:https://clubcampestresanisidro.com/evento/torneo-de-tennis-para-damas/
CATEGORIES:Torneos de Tennis,Torneos de Tennis - Femenino
ATTACH;FMTTYPE=image/jpeg:https://clubcampestresanisidro.com/wp-content/uploads/2024/07/TORNEO-TENIS-PARA-DAMAS-TV.jpg
END:VEVENT
END:VCALENDAR