BEGIN:VCALENDAR
VERSION:2.0
PRODID:-//San Isidro - ECPv6.15.20//NONSGML v1.0//EN
CALSCALE:GREGORIAN
METHOD:PUBLISH
X-WR-CALNAME:San Isidro
X-ORIGINAL-URL:https://clubcampestresanisidro.com
X-WR-CALDESC:Eventos para San Isidro
REFRESH-INTERVAL;VALUE=DURATION:PT1H
X-Robots-Tag:noindex
X-PUBLISHED-TTL:PT1H
BEGIN:VTIMEZONE
TZID:America/Guatemala
BEGIN:STANDARD
TZOFFSETFROM:-0600
TZOFFSETTO:-0600
TZNAME:CST
DTSTART:20230101T000000
END:STANDARD
END:VTIMEZONE
BEGIN:VEVENT
DTSTART;TZID=America/Guatemala:20240831T093000
DTEND;TZID=America/Guatemala:20240831T170000
DTSTAMP:20260423T083757
CREATED:20240827T213100Z
LAST-MODIFIED:20240827T213239Z
UID:5320-1725096600-1725123600@clubcampestresanisidro.com
SUMMARY:Torneo de Pickleball
DESCRIPTION:Sábado 31 de agosto\n9:30 A.M. \nTorneo en parejas \nQ150 por persona \nInscripciones +502 5649 4169
URL:https://clubcampestresanisidro.com/evento/torneo-de-pickleball/
CATEGORIES:Torneos de Tennis,Torneos de Tennis - San Isidro
ATTACH;FMTTYPE=image/jpeg:https://clubcampestresanisidro.com/wp-content/uploads/2024/08/Pickleball-2.jpg
END:VEVENT
END:VCALENDAR