BEGIN:VCALENDAR
VERSION:2.0
PRODID:-//San Isidro - ECPv6.15.20//NONSGML v1.0//EN
CALSCALE:GREGORIAN
METHOD:PUBLISH
X-WR-CALNAME:San Isidro
X-ORIGINAL-URL:https://clubcampestresanisidro.com
X-WR-CALDESC:Eventos para San Isidro
REFRESH-INTERVAL;VALUE=DURATION:PT1H
X-Robots-Tag:noindex
X-PUBLISHED-TTL:PT1H
BEGIN:VTIMEZONE
TZID:America/Guatemala
BEGIN:STANDARD
TZOFFSETFROM:-0600
TZOFFSETTO:-0600
TZNAME:CST
DTSTART:20240101T000000
END:STANDARD
END:VTIMEZONE
BEGIN:VEVENT
DTSTART;TZID=America/Guatemala:20250511T100000
DTEND;TZID=America/Guatemala:20250511T170000
DTSTAMP:20260423T085007
CREATED:20250505T150913Z
LAST-MODIFIED:20250505T151904Z
UID:8082-1746957600-1746982800@clubcampestresanisidro.com
SUMMARY:Torneo de Golf Juvenil Aniversario
DESCRIPTION:JUVENIL\ntorneo de aniversario \nPITCH & PUTT \n\ndomingo 11 de mayo \n10:00AM\nSHOT GUN    |    DRIVING RANGE \n\nMODALIDAD: A GO GO CON HDCP\nEquipos de 3 jugadores | Edades hasta 12 años \n\nTROFEOS A LOS PRIMEROS 3 LUGARES\nCoctel\, premiación y rifas \n\nExclusivo socios San Isidro\ne invitados de honor \n\nINFORMACIÓN\n📞 +502 2419-1209\n📱 +502 4526-3671 \nSAN ISIDRO Club Campestre \n25 aniversario
URL:https://clubcampestresanisidro.com/evento/torneo-de-golf-juvenil-aniversario/
CATEGORIES:Juveniles,San Isidro,Torneos de Golf
ATTACH;FMTTYPE=image/jpeg:https://clubcampestresanisidro.com/wp-content/uploads/2025/05/Torneo-Juvenil-Aniversario-00001.jpg
END:VEVENT
END:VCALENDAR