BEGIN:VCALENDAR
VERSION:2.0
PRODID:-//San Isidro - ECPv6.15.20//NONSGML v1.0//EN
CALSCALE:GREGORIAN
METHOD:PUBLISH
X-WR-CALNAME:San Isidro
X-ORIGINAL-URL:https://clubcampestresanisidro.com
X-WR-CALDESC:Eventos para San Isidro
REFRESH-INTERVAL;VALUE=DURATION:PT1H
X-Robots-Tag:noindex
X-PUBLISHED-TTL:PT1H
BEGIN:VTIMEZONE
TZID:America/Guatemala
BEGIN:STANDARD
TZOFFSETFROM:-0600
TZOFFSETTO:-0600
TZNAME:CST
DTSTART:20240101T000000
END:STANDARD
END:VTIMEZONE
BEGIN:VEVENT
DTSTART;TZID=America/Guatemala:20250516T080000
DTEND;TZID=America/Guatemala:20250517T170000
DTSTAMP:20260423T083822
CREATED:20250503T142947Z
LAST-MODIFIED:20250503T143444Z
UID:8022-1747382400-1747501200@clubcampestresanisidro.com
SUMMARY:Torneo de Aniversario
DESCRIPTION:TORNEO\n25° aniversario \nviernes 16 y sábado 17 de mayo \n\nMODALIDAD:\nSTROKE PLAY INDIVIDUAL 36 HOYOS. \n\nCATEGORÍAS\n\nCAMPEONATO: +0.5 a 4.1 de Index – Tee Azul\nA: 4.2 a 10.4 de Index – Tee Blanco\nB: 10.5 a 17.5 de Index – Tee Blanco\nC: 17.6 a 34.7 de Index – Tee Blanco\nDAMAS: Hasta 36.0 de Index – Tee Rojo\n\n\nCONDICIONES\n\nJugadores deben de tener Hdcp registrado en Asogolf.\nHandicap del 1 de Mayo.\nPremios: Trofeo 1er Lugar Gross y Trofeo 3 primeros lugares Netos en cada categoría.\nClosest to the Pin y Rifas.\nHOLE IN ONE – Carrito LVTON [Primero en Hoyo 4 ó 16 de ambos días].\nSi no hay Hole in One se entregará el carrito al mejor Closest to the pin de viernes y sábado en mismos hoyos.\n\n\nINSCRIPCIONES:\n📱 +502 4526-3671\n📞 +502 2419-1209
URL:https://clubcampestresanisidro.com/evento/torneo-de-aniversario/
CATEGORIES:San Isidro,Torneos de Golf
ATTACH;FMTTYPE=image/jpeg:https://clubcampestresanisidro.com/wp-content/uploads/2025/05/Torneo-Aniversario-00002.jpeg
END:VEVENT
END:VCALENDAR