BEGIN:VCALENDAR
VERSION:2.0
PRODID:-//San Isidro - ECPv6.15.20//NONSGML v1.0//EN
CALSCALE:GREGORIAN
METHOD:PUBLISH
X-WR-CALNAME:San Isidro
X-ORIGINAL-URL:https://clubcampestresanisidro.com
X-WR-CALDESC:Eventos para San Isidro
REFRESH-INTERVAL;VALUE=DURATION:PT1H
X-Robots-Tag:noindex
X-PUBLISHED-TTL:PT1H
BEGIN:VTIMEZONE
TZID:America/Guatemala
BEGIN:STANDARD
TZOFFSETFROM:-0600
TZOFFSETTO:-0600
TZNAME:CST
DTSTART:20200101T000000
END:STANDARD
END:VTIMEZONE
BEGIN:VEVENT
DTSTART;TZID=America/Guatemala:20211106T080000
DTEND;TZID=America/Guatemala:20211106T110000
DTSTAMP:20260423T180144
CREATED:20211015T183410Z
LAST-MODIFIED:20211015T183425Z
UID:1081-1636185600-1636196400@clubcampestresanisidro.com
SUMMARY:Segundo Torneo Infantil de Tennis 2021
DESCRIPTION:SÁBADO 6 de Noviembre\n8:00 A 11:00 AM \nCIERRE DE INSCRIPCIÓN: 28 de Cctubre\nSe juega pelota punto rojo y punto naranja \nMÁS INFORMACIÓN:\nSERGIO RODRÍGUEZ 5649-4169\nDANIEL CHÁVEZ 5058-2166\nJimmy Cardona 5690-3404 \nCOSTO Q150* (INCLUYE REFACCIÓN) \nPAGO EN EFECTIVO O SE PUEDE CARGAR A CUENTA DEL CLUB\n*SEGUNDO HIJO A MITAD DE PRECIO\, TERCERO GRATIS
URL:https://clubcampestresanisidro.com/evento/segundo-torneo-infantil-de-tennis-2021/
CATEGORIES:Torneos de Golf
ATTACH;FMTTYPE=image/png:https://clubcampestresanisidro.com/wp-content/uploads/2021/10/Torneo-de-Tennis-2021-Cuadrado.png
END:VEVENT
END:VCALENDAR