BEGIN:VCALENDAR
VERSION:2.0
PRODID:-//San Isidro - ECPv6.15.20//NONSGML v1.0//EN
CALSCALE:GREGORIAN
METHOD:PUBLISH
X-WR-CALNAME:San Isidro
X-ORIGINAL-URL:https://clubcampestresanisidro.com
X-WR-CALDESC:Eventos para San Isidro
REFRESH-INTERVAL;VALUE=DURATION:PT1H
X-Robots-Tag:noindex
X-PUBLISHED-TTL:PT1H
BEGIN:VTIMEZONE
TZID:UTC
BEGIN:STANDARD
TZOFFSETFROM:+0000
TZOFFSETTO:+0000
TZNAME:UTC
DTSTART:20200101T000000
END:STANDARD
END:VTIMEZONE
BEGIN:VEVENT
DTSTART;TZID=UTC:20210804T090000
DTEND;TZID=UTC:20210804T110000
DTSTAMP:20260423T155535
CREATED:20210803T010428Z
LAST-MODIFIED:20210803T010428Z
UID:655-1628067600-1628074800@clubcampestresanisidro.com
SUMMARY:Clínica Putt\, Pitch y Driver
DESCRIPTION:
URL:https://clubcampestresanisidro.com/evento/clinica-putt-pitch-y-driver/
CATEGORIES:Clínica
ATTACH;FMTTYPE=image/jpeg:https://clubcampestresanisidro.com/wp-content/uploads/2021/08/Clinica-Damas.jpg
END:VEVENT
END:VCALENDAR